BEGIN:VCALENDAR
VERSION:2.0
PRODID:-//Zendo am Saupurzel  Mandala Zen                        - ECPv6.15.20//NONSGML v1.0//EN
CALSCALE:GREGORIAN
METHOD:PUBLISH
X-ORIGINAL-URL:https://mandala-zen.de
X-WR-CALDESC:Veranstaltungen für Zendo am Saupurzel  Mandala Zen                       
REFRESH-INTERVAL;VALUE=DURATION:PT1H
X-Robots-Tag:noindex
X-PUBLISHED-TTL:PT1H
BEGIN:VTIMEZONE
TZID:UTC
BEGIN:STANDARD
TZOFFSETFROM:+0000
TZOFFSETTO:+0000
TZNAME:UTC
DTSTART:20220101T000000
END:STANDARD
END:VTIMEZONE
BEGIN:VEVENT
DTSTART;TZID=UTC:20230213T180000
DTEND;TZID=UTC:20230215T130000
DTSTAMP:20260420T100352
CREATED:20200224T163507Z
LAST-MODIFIED:20220910T144026Z
UID:699-1676311200-1676466000@mandala-zen.de
SUMMARY:Jochen Niemuth: Innerer Frieden - äußerer Frieden - Benediktushof
DESCRIPTION:Jeder Mensch wünscht sich Gelassenheit und inneren Frieden. \nWir sehnen uns nach Ausgeglichenheit\, Harmonie und Entspan-\nnung. Dazu ist es notwendig\, sich vom üblichen Druck und Ein-\ngespanntsein in den vielen Alltagsangelegenheiten etwas abzu-\nkoppeln und zu lernen\, innerlich loszulassen. In dieser Gelassen-\nheit können sich dann Geist wie Körper erholen und erneuern. \nWenn wir „zufrieden“ und mit uns selbst im Reinen sind\, wird dies\nauch einen Effekt auf unsere Entscheidungen und Handlungen\nhaben – und somit unseren Schicksalsweg mit beeinflussen. In\neiner friedlichen Atmosphäre verhalten wir uns anders als in einer\nangespannten\, zerrütteten Situation. \nDer innere Friede wirkt sich auch im Äußeren aus und bestimmt\ndie Atmosphäre und Lebenswirklichkeit\, mit der wir jedem Tag\nbegegnen. Wie können wir inneren Frieden erlangen und auch\nin schwierigen Situationen beibehalten? Und wie können wir ler-\nnen\, sinnvoll mit Streit und Unruhe umzugehen? \nElemente:\nÜbungen\, Vorträge\, Gespräche\, stille und geführte Meditationen.
URL:https://mandala-zen.de/event/jochen-niemuth-innerer-frieden-aeusserer-frieden-benediktushof
LOCATION:Benediktushof\, Klosterstraße 10\, 97292 Holzkirchen/Unterfranken\, Deutschland
CATEGORIES:Kurs
ORGANIZER;CN="Benediktushof":MAILTO:info@benediktushof-holzkirchen.de
END:VEVENT
END:VCALENDAR