BEGIN:VCALENDAR
VERSION:2.0
PRODID:-//Zendo am Saupurzel  Mandala Zen                        - ECPv6.15.20//NONSGML v1.0//EN
CALSCALE:GREGORIAN
METHOD:PUBLISH
X-WR-CALNAME:Zendo am Saupurzel  Mandala Zen                       
X-ORIGINAL-URL:https://mandala-zen.de
X-WR-CALDESC:Veranstaltungen für Zendo am Saupurzel  Mandala Zen                       
REFRESH-INTERVAL;VALUE=DURATION:PT1H
X-Robots-Tag:noindex
X-PUBLISHED-TTL:PT1H
BEGIN:VTIMEZONE
TZID:UTC
BEGIN:STANDARD
TZOFFSETFROM:+0000
TZOFFSETTO:+0000
TZNAME:UTC
DTSTART:20250101T000000
END:STANDARD
END:VTIMEZONE
BEGIN:VEVENT
DTSTART;TZID=UTC:20260422T180000
DTEND;TZID=UTC:20260426T130000
DTSTAMP:20260424T083034
CREATED:20251204T110527Z
LAST-MODIFIED:20251204T110527Z
UID:2502-1776880800-1777208400@mandala-zen.de
SUMMARY:Zen-Sesshin mit Jochen Niemuth im Benediktushof
DESCRIPTION:„Auf unserem spirituellen Weg\ngeht es nicht darum\, etwas zu\nmachen\, sondern sich für etwas\nzu öffnen\, was schon da ist.“\n(Willigis Jäger) \nBeim Sesshin besteht die Möglichkeit\, die eigene Meditationspraxis zu vertiefen. \nWir können uns neu ordnen\, uns regenerieren und unsere\neigene Wahrheit erkennen. Es ist ein Loslassen in sich selbst\,\nein Eintauchen in sich selbst und ein Spüren\, was da ist. \nVoraussetzung für die Teilnahme ist der Besuch eines Einführungskurses.
URL:https://mandala-zen.de/event/zen-sesshin-mit-jochen-niemuth-im-benediktushof-5
LOCATION:Benediktushof\, Klosterstraße 10\, 97292 Holzkirchen/Unterfranken\, Deutschland
CATEGORIES:Kurs
ORGANIZER;CN="Benediktushof":MAILTO:info@benediktushof-holzkirchen.de
END:VEVENT
END:VCALENDAR